BEGIN:VCALENDAR
VERSION:2.0
PRODID:-//DIGITAL FACTORY//EVENTS MAKER V1.6.14//EN
CALSCALE:GREGORIAN
BEGIN:VEVENT
DTEND:20260513
UID:69e5d9bca93a7
DTSTAMP:20260420T074604Z
CATEGORIES:Congés
DESCRIPTION:
URL;VALUE=URI:https://www.ecolelibreleuze.be/events/event/conge-de-lascension/
SUMMARY:Congé de l&#039\;Ascension
DTSTART:20260513
END:VEVENT
END:VCALENDAR
