BEGIN:VCALENDAR
VERSION:2.0
PRODID:-//DIGITAL FACTORY//EVENTS MAKER V1.6.14//EN
CALSCALE:GREGORIAN
BEGIN:VEVENT
DTEND:20260524
UID:69e5eff15d51b
DTSTAMP:20260420T092049Z
CATEGORIES:Congés
DESCRIPTION:
URL;VALUE=URI:https://www.ecolelibreleuze.be/events/event/conge-de-pentecote/
SUMMARY:Congé de Pentecôte
DTSTART:20260524
END:VEVENT
END:VCALENDAR
