BEGIN:VCALENDAR
VERSION:2.0
PRODID:-//DIGITAL FACTORY//EVENTS MAKER V1.6.14//EN
CALSCALE:GREGORIAN
BEGIN:VEVENT
DTEND:20260618
UID:69e8877b24d16
DTSTAMP:20260422T083155Z
CATEGORIES:M1-M2
DESCRIPTION:
URL;VALUE=URI:https://www.ecolelibreleuze.be/events/event/pairi-daiza-m2/
SUMMARY:Pairi Daiza M2
DTSTART:20260618
END:VEVENT
END:VCALENDAR
